BEGIN:VCALENDAR
VERSION:2.0
PRODID:-//Massachusetts Chiropractic Society, Inc. - ECPv6.15.12.2//NONSGML v1.0//EN
CALSCALE:GREGORIAN
METHOD:PUBLISH
X-WR-CALNAME:Massachusetts Chiropractic Society, Inc.
X-ORIGINAL-URL:https://www.masschiro.org
X-WR-CALDESC:Events for Massachusetts Chiropractic Society, Inc.
REFRESH-INTERVAL;VALUE=DURATION:PT1H
X-Robots-Tag:noindex
X-PUBLISHED-TTL:PT1H
BEGIN:VTIMEZONE
TZID:America/New_York
BEGIN:DAYLIGHT
TZOFFSETFROM:-0500
TZOFFSETTO:-0400
TZNAME:EDT
DTSTART:20200308T070000
END:DAYLIGHT
BEGIN:STANDARD
TZOFFSETFROM:-0400
TZOFFSETTO:-0500
TZNAME:EST
DTSTART:20201101T060000
END:STANDARD
BEGIN:DAYLIGHT
TZOFFSETFROM:-0500
TZOFFSETTO:-0400
TZNAME:EDT
DTSTART:20210314T070000
END:DAYLIGHT
BEGIN:STANDARD
TZOFFSETFROM:-0400
TZOFFSETTO:-0500
TZNAME:EST
DTSTART:20211107T060000
END:STANDARD
BEGIN:DAYLIGHT
TZOFFSETFROM:-0500
TZOFFSETTO:-0400
TZNAME:EDT
DTSTART:20220313T070000
END:DAYLIGHT
BEGIN:STANDARD
TZOFFSETFROM:-0400
TZOFFSETTO:-0500
TZNAME:EST
DTSTART:20221106T060000
END:STANDARD
END:VTIMEZONE
BEGIN:VEVENT
DTSTART;VALUE=DATE:20210615
DTEND;VALUE=DATE:20210616
DTSTAMP:20260425T112945
CREATED:20210603T171417Z
LAST-MODIFIED:20210604T201604Z
UID:4232-1623715200-1623801599@www.masschiro.org
SUMMARY:Dr. Robert Scott 2CEU Pain & Inflammation (A Natural Approach)
DESCRIPTION:Date:  June 15\, 2021-Location: Virtual \n2 CEU’s for DC’s in MA\, NH\, ME. Approved- RI\, CT & VT Pending \nSeminar time: 6:30 to 8:30 pm \nPresenter: Dr. Robert Scott \n Course goals  \n\nReview of general inflammation its causes and overall impact to health\nUnderstanding the importance of addressing chronic inflammation in addressing pain\n\n\nUnderstand how neuroinflammation impacts brain health and the development of pain syndromes\nReview of the important role herbs play in addressing inflammation and pain\nDevelop appropriate nutritional\, diet\, lifestyle\, and herbal protocols for every case\n\nLearning objectives/learning outcomes \nOn completion of this course\, attendees will have: \n  \n\nBasic clinical understanding to address acute and chronic inflammation\nBasic clinical understanding to address neuroinflammation\nBasic clinical understanding to address pain syndromes\nUnderstanding of the importance if the endocannabinoid system in addressing pain and chronic inflammation\nUnderstand how to properly assess and provide nutritional\, herbal\, dietary\, and lifestyle support for acute and chronic inflammation\nUnderstand how to properly assess and provide nutritional\, herbal\, dietary\, and lifestyle support for neuroinflammation\nUnderstand how to properly assess and provide nutritional\, herbal\, dietary\, and lifestyle support for pain
URL:https://www.masschiro.org/event/dr-robert-scott-2ceu-pain-inflammation-a-natural-approach/
END:VEVENT
END:VCALENDAR